BEGIN:VCALENDAR
VERSION:2.0
PRODID:icalendar-ruby
CALSCALE:GREGORIAN
METHOD:PUBLISH
BEGIN:VEVENT
DTSTAMP:20260424T035211Z
UID:8-367708@mylgc.org
DTSTART:20260808T230000Z
DTEND:20260809T160000Z
CLASS:PUBLIC
CREATED:20260404T225155
DESCRIPTION:
LAST-MODIFIED:20260404T225155
LOCATION:
SUMMARY:Prophetic Conference - Aug 8 & 9
URL;VALUE=URI:https://www.mylgc.org/events/prophetic-conference-aug-8-9/202
 6-08-08
ATTACH;FILENAME=Prophetic---dove-image-resized.jpg;FMTTYPE=image/jpeg:https
 ://dq5pwpg1q8ru0.cloudfront.net/2026/04/05/02/51/12/4a10ed15-4533-41b3-84b
 d-c6424002a89e/Prophetic---dove-image-resized.jpg
END:VEVENT
END:VCALENDAR
