BEGIN:VCALENDAR
VERSION:2.0
PRODID:icalendar-ruby
CALSCALE:GREGORIAN
METHOD:PUBLISH
BEGIN:VEVENT
DTSTAMP:20260424T035049Z
UID:6-367209@mylgc.org
DTSTART:20260531T140000Z
DTEND:20260531T160000Z
CLASS:PUBLIC
CREATED:20260404T180934
DESCRIPTION:
LAST-MODIFIED:20260404T180934
LOCATION:
SUMMARY:Michael Heltsley\, Evangelist
URL;VALUE=URI:https://www.mylgc.org/events/michael-heltsley-evangelist/2026
 -05-31
ATTACH;FILENAME=Worshipers.jpg;FMTTYPE=image/jpeg:https://dq5pwpg1q8ru0.clo
 udfront.net/2026/04/04/22/09/34/18c91321-1172-46d2-905f-2b32b3e403ce/Worsh
 ipers.jpg
END:VEVENT
END:VCALENDAR
