BEGIN:VCALENDAR
VERSION:2.0
PRODID:icalendar-ruby
CALSCALE:GREGORIAN
METHOD:PUBLISH
BEGIN:VEVENT
DTSTAMP:20260424T035216Z
UID:9-367706@mylgc.org
DTSTART:20261012T230000Z
DTEND:20261015T230000Z
CLASS:PUBLIC
CREATED:20260404T224330
DESCRIPTION:Dates and Times TBD
LAST-MODIFIED:20260404T224330
LOCATION:TBD
SUMMARY:Community Tent Revival
URL;VALUE=URI:https://www.mylgc.org/events/community-tent-revival/2026-10-1
 2
ATTACH;FILENAME=Tent-Revival---resized.jpg;FMTTYPE=image/jpeg:https://dq5pw
 pg1q8ru0.cloudfront.net/2026/04/05/02/43/29/493ba22f-e33a-42f6-8867-d6c8fb
 b01239/Tent-Revival---resized.jpg
END:VEVENT
END:VCALENDAR
