BEGIN:VCALENDAR
VERSION:2.0
PRODID:icalendar-ruby
CALSCALE:GREGORIAN
METHOD:PUBLISH
BEGIN:VEVENT
DTSTAMP:20260425T190123Z
UID:5-399666@mylgc.org
DTSTART:20261101T144500Z
DTEND:20261101T163000Z
CLASS:PUBLIC
CREATED:20260425T140216
DESCRIPTION:Sunday Worship
LAST-MODIFIED:20260425T140216
LOCATION:Living Gateway Church Sanctuary
SUMMARY:Awakening Prayer
URL;VALUE=URI:https://www.mylgc.org/events/awakening-prayer/2026-11-01
END:VEVENT
END:VCALENDAR
