BEGIN:VCALENDAR
VERSION:2.0
PRODID:icalendar-ruby
CALSCALE:GREGORIAN
METHOD:PUBLISH
BEGIN:VEVENT
DTSTAMP:20260425T172246Z
UID:5-399565@mylgc.org
DTSTART:20261025T134500Z
DTEND:20261025T153000Z
CLASS:PUBLIC
CREATED:20260425T112216
DESCRIPTION:Sunday Worship
LAST-MODIFIED:20260425T112216
LOCATION:Living Gateway Church Sanctuary
SUMMARY:Awakening Prayer
URL;VALUE=URI:https://www.mylgc.org/events/awakening-prayer/2026-10-25
END:VEVENT
END:VCALENDAR
