BEGIN:VCALENDAR
VERSION:2.0
PRODID:icalendar-ruby
CALSCALE:GREGORIAN
METHOD:PUBLISH
BEGIN:VEVENT
DTSTAMP:20260425T144205Z
UID:5-399463@mylgc.org
DTSTART:20261011T134500Z
DTEND:20261011T153000Z
CLASS:PUBLIC
CREATED:20260425T084121
DESCRIPTION:Sunday Worship
LAST-MODIFIED:20260425T084121
LOCATION:Living Gateway Church Sanctuary
SUMMARY:Awakening Prayer
URL;VALUE=URI:https://www.mylgc.org/events/awakening-prayer/2026-10-11
END:VEVENT
END:VCALENDAR
