BEGIN:VCALENDAR
VERSION:2.0
PRODID:icalendar-ruby
CALSCALE:GREGORIAN
METHOD:PUBLISH
BEGIN:VEVENT
DTSTAMP:20260425T120440Z
UID:5-399361@mylgc.org
DTSTART:20260927T134500Z
DTEND:20260927T153000Z
CLASS:PUBLIC
CREATED:20260424T225822
DESCRIPTION:Sunday Worship
LAST-MODIFIED:20260424T225822
LOCATION:Living Gateway Church Sanctuary
SUMMARY:Awakening Prayer
URL;VALUE=URI:https://www.mylgc.org/events/awakening-prayer/2026-09-27
END:VEVENT
END:VCALENDAR
