BEGIN:VCALENDAR
VERSION:2.0
PRODID:icalendar-ruby
CALSCALE:GREGORIAN
METHOD:PUBLISH
BEGIN:VEVENT
DTSTAMP:20260424T234538Z
UID:5-399124@mylgc.org
DTSTART:20260726T134500Z
DTEND:20260726T153000Z
CLASS:PUBLIC
CREATED:20260424T172927
DESCRIPTION:Sunday Worship
LAST-MODIFIED:20260424T172927
LOCATION:Living Gateway Church Sanctuary
SUMMARY:Awakening Prayer
URL;VALUE=URI:https://www.mylgc.org/events/awakening-prayer/2026-07-26
END:VEVENT
END:VCALENDAR
