BEGIN:VCALENDAR
VERSION:2.0
PRODID:icalendar-ruby
CALSCALE:GREGORIAN
METHOD:PUBLISH
BEGIN:VEVENT
DTSTAMP:20260424T193521Z
UID:5-396341@mylgc.org
DTSTART:20260705T143000Z
DTEND:20260705T153000Z
CLASS:PUBLIC
CREATED:20260424T143238
DESCRIPTION:Sunday Worship
LAST-MODIFIED:20260424T143238
LOCATION:Living Gateway Church Sanctuary
SUMMARY:Awakening Prayer
URL;VALUE=URI:https://www.mylgc.org/events/awakening-prayer/2026-07-05
END:VEVENT
END:VCALENDAR
