BEGIN:VCALENDAR
VERSION:2.0
PRODID:icalendar-ruby
CALSCALE:GREGORIAN
METHOD:PUBLISH
BEGIN:VEVENT
DTSTAMP:20260424T164725Z
UID:5-396093@mylgc.org
DTSTART:20260621T143000Z
DTEND:20260621T153000Z
CLASS:PUBLIC
CREATED:20260424T114721
DESCRIPTION:Sunday Worship
LAST-MODIFIED:20260424T114721
LOCATION:Living Gateway Church Sanctuary
SUMMARY:Awakening Prayer
URL;VALUE=URI:https://www.mylgc.org/events/awakening-prayer/2026-06-21
END:VEVENT
END:VCALENDAR
