BEGIN:VCALENDAR
VERSION:2.0
PRODID:icalendar-ruby
CALSCALE:GREGORIAN
METHOD:PUBLISH
BEGIN:VEVENT
DTSTAMP:20260424T152520Z
UID:5-395846@mylgc.org
DTSTART:20260614T143000Z
DTEND:20260614T153000Z
CLASS:PUBLIC
CREATED:20260424T085445
DESCRIPTION:Sunday Worship
LAST-MODIFIED:20260424T085445
LOCATION:Living Gateway Church Sanctuary
SUMMARY:Awakening Prayer
URL;VALUE=URI:https://www.mylgc.org/events/awakening-prayer/2026-06-14
END:VEVENT
END:VCALENDAR
