BEGIN:VCALENDAR
VERSION:2.0
PRODID:icalendar-ruby
CALSCALE:GREGORIAN
METHOD:PUBLISH
BEGIN:VEVENT
DTSTAMP:20260424T140419Z
UID:5-395845@mylgc.org
DTSTART:20260607T143000Z
DTEND:20260607T153000Z
CLASS:PUBLIC
CREATED:20260424T085445
DESCRIPTION:Sunday Worship
LAST-MODIFIED:20260424T085445
LOCATION:Living Gateway Church Sanctuary
SUMMARY:Awakening Prayer
URL;VALUE=URI:https://www.mylgc.org/events/awakening-prayer/2026-06-07
END:VEVENT
END:VCALENDAR
