BEGIN:VCALENDAR
VERSION:2.0
PRODID:icalendar-ruby
CALSCALE:GREGORIAN
METHOD:PUBLISH
BEGIN:VEVENT
DTSTAMP:20260424T081720Z
UID:5-395595@mylgc.org
DTSTART:20260510T143000Z
DTEND:20260510T153000Z
CLASS:PUBLIC
CREATED:20260423T232644
DESCRIPTION:Sunday Worship
LAST-MODIFIED:20260423T232644
LOCATION:Living Gateway Church Sanctuary
SUMMARY:Awakening Prayer
URL;VALUE=URI:https://www.mylgc.org/events/awakening-prayer/2026-05-10
END:VEVENT
END:VCALENDAR
