BEGIN:VCALENDAR
VERSION:2.0
PRODID:icalendar-ruby
CALSCALE:GREGORIAN
METHOD:PUBLISH
BEGIN:VEVENT
DTSTAMP:20260426T023659Z
UID:11-400015@mylgc.org
DTSTART:20260913T134500Z
DTEND:20260914T020500Z
CLASS:PUBLIC
CREATED:20260425T220756
DESCRIPTION:
LAST-MODIFIED:20260425T220756
LOCATION:
SUMMARY:Awakening prayer/Morning service
URL;VALUE=URI:https://www.mylgc.org/events/awakening-prayer-morning-service
 /2026-09-13
END:VEVENT
END:VCALENDAR
