BEGIN:VCALENDAR
VERSION:2.0
PRODID:icalendar-ruby
CALSCALE:GREGORIAN
METHOD:PUBLISH
BEGIN:VEVENT
DTSTAMP:20260426T010936Z
UID:11-399914@mylgc.org
DTSTART:20260906T134500Z
DTEND:20260907T020500Z
CLASS:PUBLIC
CREATED:20260425T192656
DESCRIPTION:
LAST-MODIFIED:20260425T192656
LOCATION:
SUMMARY:Awakening prayer/Morning service
URL;VALUE=URI:https://www.mylgc.org/events/awakening-prayer-morning-service
 /2026-09-06
END:VEVENT
END:VCALENDAR
