BEGIN:VCALENDAR
VERSION:2.0
PRODID:icalendar-ruby
CALSCALE:GREGORIAN
METHOD:PUBLISH
BEGIN:VEVENT
DTSTAMP:20260425T233132Z
UID:11-399913@mylgc.org
DTSTART:20260830T134500Z
DTEND:20260831T020500Z
CLASS:PUBLIC
CREATED:20260425T192656
DESCRIPTION:
LAST-MODIFIED:20260425T192656
LOCATION:
SUMMARY:Awakening prayer/Morning service
URL;VALUE=URI:https://www.mylgc.org/events/awakening-prayer-morning-service
 /2026-08-30
END:VEVENT
END:VCALENDAR
