BEGIN:VCALENDAR
VERSION:2.0
PRODID:icalendar-ruby
CALSCALE:GREGORIAN
METHOD:PUBLISH
BEGIN:VEVENT
DTSTAMP:20260425T220603Z
UID:11-399812@mylgc.org
DTSTART:20260823T134500Z
DTEND:20260824T020500Z
CLASS:PUBLIC
CREATED:20260425T164348
DESCRIPTION:
LAST-MODIFIED:20260425T164348
LOCATION:
SUMMARY:Awakening prayer/Morning service
URL;VALUE=URI:https://www.mylgc.org/events/awakening-prayer-morning-service
 /2026-08-23
END:VEVENT
END:VCALENDAR
