BEGIN:VCALENDAR
VERSION:2.0
PRODID:icalendar-ruby
CALSCALE:GREGORIAN
METHOD:PUBLISH
BEGIN:VEVENT
DTSTAMP:20260425T160844Z
UID:11-399608@mylgc.org
DTSTART:20260726T134500Z
DTEND:20260727T020500Z
CLASS:PUBLIC
CREATED:20260425T112216
DESCRIPTION:
LAST-MODIFIED:20260425T112216
LOCATION:
SUMMARY:Awakening prayer/Morning service
URL;VALUE=URI:https://www.mylgc.org/events/awakening-prayer-morning-service
 /2026-07-26
END:VEVENT
END:VCALENDAR
