BEGIN:VCALENDAR
VERSION:2.0
PRODID:icalendar-ruby
CALSCALE:GREGORIAN
METHOD:PUBLISH
BEGIN:VEVENT
DTSTAMP:20260425T132109Z
UID:11-399506@mylgc.org
DTSTART:20260712T134500Z
DTEND:20260713T020500Z
CLASS:PUBLIC
CREATED:20260425T084121
DESCRIPTION:
LAST-MODIFIED:20260425T084121
LOCATION:
SUMMARY:Awakening prayer/Morning service
URL;VALUE=URI:https://www.mylgc.org/events/awakening-prayer-morning-service
 /2026-07-12
END:VEVENT
END:VCALENDAR
