BEGIN:VCALENDAR
VERSION:2.0
PRODID:icalendar-ruby
CALSCALE:GREGORIAN
METHOD:PUBLISH
BEGIN:VEVENT
DTSTAMP:20260425T120133Z
UID:11-399405@mylgc.org
DTSTART:20260705T134500Z
DTEND:20260706T020500Z
CLASS:PUBLIC
CREATED:20260424T225822
DESCRIPTION:
LAST-MODIFIED:20260424T225822
LOCATION:
SUMMARY:Awakening prayer/Morning service
URL;VALUE=URI:https://www.mylgc.org/events/awakening-prayer-morning-service
 /2026-07-05
END:VEVENT
END:VCALENDAR
