BEGIN:VCALENDAR
VERSION:2.0
PRODID:icalendar-ruby
CALSCALE:GREGORIAN
METHOD:PUBLISH
BEGIN:VEVENT
DTSTAMP:20260425T033827Z
UID:11-399399@mylgc.org
DTSTART:20260524T134500Z
DTEND:20260525T020500Z
CLASS:PUBLIC
CREATED:20260424T225822
DESCRIPTION:
LAST-MODIFIED:20260424T225822
LOCATION:
SUMMARY:Awakening prayer/Morning service
URL;VALUE=URI:https://www.mylgc.org/events/awakening-prayer-morning-service
 /2026-05-24
END:VEVENT
END:VCALENDAR
