BEGIN:VCALENDAR
VERSION:2.0
PRODID:icalendar-ruby
CALSCALE:GREGORIAN
METHOD:PUBLISH
BEGIN:VEVENT
DTSTAMP:20260425T010923Z
UID:11-399297@mylgc.org
DTSTART:20260510T134500Z
DTEND:20260510T160000Z
CLASS:PUBLIC
CREATED:20260424T200819
DESCRIPTION:
LAST-MODIFIED:20260424T200819
LOCATION:
SUMMARY:Awakening prayer/Morning service
URL;VALUE=URI:https://www.mylgc.org/events/awakening-prayer-morning-service
 /2026-05-10
END:VEVENT
END:VCALENDAR
